BEGIN:VCALENDAR
VERSION:2.0
PRODID:-//Aikido-Atelier - ECPv6.3.1//NONSGML v1.0//EN
CALSCALE:GREGORIAN
METHOD:PUBLISH
X-WR-CALNAME:Aikido-Atelier
X-ORIGINAL-URL:https://aikido-atelier.ch
X-WR-CALDESC:Veranstaltungen im Aikido-Atelier
REFRESH-INTERVAL;VALUE=DURATION:PT1H
X-Robots-Tag:noindex
X-PUBLISHED-TTL:PT1H
BEGIN:VTIMEZONE
TZID:Europe/Zurich
BEGIN:DAYLIGHT
TZOFFSETFROM:+0100
TZOFFSETTO:+0200
TZNAME:CEST
DTSTART:20260329T010000
END:DAYLIGHT
BEGIN:STANDARD
TZOFFSETFROM:+0200
TZOFFSETTO:+0100
TZNAME:CET
DTSTART:20261025T010000
END:STANDARD
END:VTIMEZONE
BEGIN:VEVENT
DTSTART;VALUE=DATE:20260314
DTEND;VALUE=DATE:20260316
DTSTAMP:20260424T134541
CREATED:20260106T083328Z
LAST-MODIFIED:20260106T083328Z
UID:4412-1773446400-1773619199@aikido-atelier.ch
SUMMARY:Gérard Blaize\, Nancy\, FR
DESCRIPTION:Flyer
URL:https://aikido-atelier.ch/kalender/gerard-blaize-nancy-fr-3/
END:VEVENT
BEGIN:VEVENT
DTSTART;VALUE=DATE:20260321
DTEND;VALUE=DATE:20260323
DTSTAMP:20260424T134541
CREATED:20251208T122942Z
LAST-MODIFIED:20260228T083707Z
UID:4375-1774051200-1774223999@aikido-atelier.ch
SUMMARY:Gérard Blaize\, Nidau\, CH
DESCRIPTION:Flyer
URL:https://aikido-atelier.ch/kalender/gerard-blaize-nidau-ch-3/
END:VEVENT
END:VCALENDAR